BEGIN:VCALENDAR
VERSION:2.0
PRODID:-//Willkommen bei der Schützenlust Neuss-Gnadental//NONSGML kigkonsu
 lt.se iCalcreator 2.20//
CALSCALE:GREGORIAN
METHOD:PUBLISH
X-WR-TIMEZONE:UTC
X-WR-CALNAME:Calendar
X-WR-CALDESC:Calendar Description
BEGIN:VEVENT
UID:event265@Willkommen bei der Schützenlust Neuss-Gnadental
DTSTAMP:20260423T092824Z
CATEGORIES:Schützenlust Gnadental
DESCRIPTION:Versammlung\nKategorie: Schützenlust Gnadental\nICS-Link: https
 ://schuetzenlust-gnadental.de/index.php?option=com_jem&view=event&id=265:v
 ersammlung&Itemid=552\n
DTSTART:20260424T200000
DTEND:20260424T200000
LOCATION:Gaststätte Pilsstübchen\,Grüner Weg\,41468 Neuss\,Germany
SUMMARY:Versammlung
URL:https://schuetzenlust-gnadental.de/index.php?option=com_jem&view=event&
 id=265:versammlung&Itemid=552
END:VEVENT
BEGIN:VEVENT
UID:event251@Willkommen bei der Schützenlust Neuss-Gnadental
DTSTAMP:20260423T092824Z
CATEGORIES:Schützenlust Gnadental
DESCRIPTION:Scala Theater\nKategorie: Schützenlust Gnadental\nICS-Link: htt
 ps://schuetzenlust-gnadental.de/index.php?option=com_jem&view=event&id=251
 :scala-theater&Itemid=552\n
DTSTART:20260425T150000
DTEND:20260425T234500
LOCATION:Scala Theater Köln\,Hohenzollernring 48\,50672 Köln\,Germany
SUMMARY:Scala Theater
URL:https://schuetzenlust-gnadental.de/index.php?option=com_jem&view=event&
 id=251:scala-theater&Itemid=552
END:VEVENT
BEGIN:VEVENT
UID:event267@Willkommen bei der Schützenlust Neuss-Gnadental
DTSTAMP:20260423T092824Z
CATEGORIES:BHV
DESCRIPTION:Königsehrenabend\nKategorie: BHV\nICS-Link: https://schuetzenlu
 st-gnadental.de/index.php?option=com_jem&view=event&id=267:koenigsehrenabe
 nd&Itemid=552\n
DTSTART;VALUE=DATE:20260509
DTEND;VALUE=DATE:20260510
LOCATION:Festzelt am Kirmesplatz\,Berghäuschensweg\,41468 Neuss\,Germany
SUMMARY:Königsehrenabend
URL:https://schuetzenlust-gnadental.de/index.php?option=com_jem&view=event&
 id=267:koenigsehrenabend&Itemid=552
END:VEVENT
BEGIN:VEVENT
UID:event268@Willkommen bei der Schützenlust Neuss-Gnadental
DTSTAMP:20260423T092824Z
CATEGORIES:BHV
DESCRIPTION:Oberstehrentag\nKategorie: BHV\nICS-Link: https://schuetzenlust
 -gnadental.de/index.php?option=com_jem&view=event&id=268:oberstehrentag&It
 emid=552\n
DTSTART;VALUE=DATE:20260510
DTEND;VALUE=DATE:20260511
LOCATION:Festzelt am Kirmesplatz\,Berghäuschensweg\,41468 Neuss\,Germany
SUMMARY:Oberstehrentag
URL:https://schuetzenlust-gnadental.de/index.php?option=com_jem&view=event&
 id=268:oberstehrentag&Itemid=552
END:VEVENT
BEGIN:VEVENT
UID:event252@Willkommen bei der Schützenlust Neuss-Gnadental
DTSTAMP:20260423T092824Z
CATEGORIES:Schützenlust Gnadental
DESCRIPTION:Planwagenfahrt\nKategorie: Schützenlust Gnadental\nICS-Link: ht
 tps://schuetzenlust-gnadental.de/index.php?option=com_jem&view=event&id=25
 2:planwagenfahrt&Itemid=552\n
DTSTART:20260530T140000
DTEND:20260530T140000
SUMMARY:Planwagenfahrt
URL:https://schuetzenlust-gnadental.de/index.php?option=com_jem&view=event&
 id=252:planwagenfahrt&Itemid=552
END:VEVENT
BEGIN:VEVENT
UID:event269@Willkommen bei der Schützenlust Neuss-Gnadental
DTSTAMP:20260423T092824Z
CATEGORIES:Schützenlust Gnadental
DESCRIPTION:Korpskrönung Schützenlust-Gnadental\nKategorie: Schützenlust Gn
 adental\nICS-Link: https://schuetzenlust-gnadental.de/index.php?option=com
 _jem&view=event&id=269:korpskroenung-schuetzenlust-gnadental&Itemid=552\n
DTSTART;VALUE=DATE:20260604
DTEND;VALUE=DATE:20260605
SUMMARY:Korpskrönung Schützenlust-Gnadental
URL:https://schuetzenlust-gnadental.de/index.php?option=com_jem&view=event&
 id=269:korpskroenung-schuetzenlust-gnadental&Itemid=552
END:VEVENT
BEGIN:VEVENT
UID:event266@Willkommen bei der Schützenlust Neuss-Gnadental
DTSTAMP:20260423T092824Z
CATEGORIES:BHV
DESCRIPTION:Schützenfest 2026\nKategorie: BHV\nICS-Link: https://schuetzenl
 ust-gnadental.de/index.php?option=com_jem&view=event&id=266:schuetzenfest-
 2026&Itemid=552\n
DTSTART;VALUE=DATE:20260605
DTEND;VALUE=DATE:20260609
LOCATION:Festzelt am Kirmesplatz\,Berghäuschensweg\,41468 Neuss\,Germany
SUMMARY:Schützenfest 2026
URL:https://schuetzenlust-gnadental.de/index.php?option=com_jem&view=event&
 id=266:schuetzenfest-2026&Itemid=552
END:VEVENT
END:VCALENDAR
